BEGIN:VCALENDAR
VERSION:2.0
PRODID:-//MonFabLab - ECPv6.15.17//NONSGML v1.0//EN
CALSCALE:GREGORIAN
METHOD:PUBLISH
X-ORIGINAL-URL:https://www.monfablab.ch
X-WR-CALDESC:Évènements pour MonFabLab
REFRESH-INTERVAL;VALUE=DURATION:PT1H
X-Robots-Tag:noindex
X-PUBLISHED-TTL:PT1H
BEGIN:VTIMEZONE
TZID:Europe/Zurich
BEGIN:DAYLIGHT
TZOFFSETFROM:+0100
TZOFFSETTO:+0200
TZNAME:CEST
DTSTART:20240331T010000
END:DAYLIGHT
BEGIN:STANDARD
TZOFFSETFROM:+0200
TZOFFSETTO:+0100
TZNAME:CET
DTSTART:20241027T010000
END:STANDARD
BEGIN:DAYLIGHT
TZOFFSETFROM:+0100
TZOFFSETTO:+0200
TZNAME:CEST
DTSTART:20250330T010000
END:DAYLIGHT
BEGIN:STANDARD
TZOFFSETFROM:+0200
TZOFFSETTO:+0100
TZNAME:CET
DTSTART:20251026T010000
END:STANDARD
BEGIN:DAYLIGHT
TZOFFSETFROM:+0100
TZOFFSETTO:+0200
TZNAME:CEST
DTSTART:20260329T010000
END:DAYLIGHT
BEGIN:STANDARD
TZOFFSETFROM:+0200
TZOFFSETTO:+0100
TZNAME:CET
DTSTART:20261025T010000
END:STANDARD
END:VTIMEZONE
BEGIN:VEVENT
DTSTART;TZID=Europe/Zurich:20251216T190000
DTEND;TZID=Europe/Zurich:20251216T210000
DTSTAMP:20260421T133239
CREATED:20251209T130109Z
LAST-MODIFIED:20251209T130523Z
UID:10006694-1765911600-1765918800@www.monfablab.ch
SUMMARY:Apéro fin d'année
DESCRIPTION:Dernier jour de Fablab avant les vacances On termine l’année en douceur au FabLab avec un petit apéro convivial L’occasion de papoter\, partager nos projets et célébrer tout ce qu’on a créé ensemble cette année.Vous êtes les bienvenus pour un moment simple et chaleureux ! \n#apéro #findannée #convivialité #genthod #fablab #monfablab
URL:https://www.monfablab.ch/event/apero-fin-dannee/
CATEGORIES:EventFormation
END:VEVENT
END:VCALENDAR